BEGIN:VCALENDAR
VERSION:2.0
PRODID:-//Sites et cités - ECPv4.5.2.1//NONSGML v1.0//EN
CALSCALE:GREGORIAN
METHOD:PUBLISH
X-WR-CALNAME:Sites et cités
X-ORIGINAL-URL:http://www.sites-cites.fr
X-WR-CALDESC:Events for Sites et cités
BEGIN:VEVENT
DTSTART;TZID=Europe/Paris:20180626T090000
DTEND;TZID=Europe/Paris:20180627T190000
DTSTAMP:20180626T174227
CREATED:20180613T150121Z
LAST-MODIFIED:20180614T124953Z
UID:8358-1530003600-1530126000@www.sites-cites.fr
SUMMARY:Sunny Side of the Doc 2018
DESCRIPTION:Sunny Side of the Doc 2018\nParticipez à la délégation de Sites & Cités les mardi 26 et/ou mercredi 27 juin 2018 à La Rochelle !\n\nOrganisé à La Rochelle pour sa 29ème édition\, le Sunny Side of the Doc est un marché du film international du documentaire et des technologies innovantes qui regroupe du 25 au 28 juin 2018\, 2 000 professionnels d'une soixantaine de pays.\n\nConsciente que les collectivités ont aujourd’hui la volonté de mieux faire connaître leurs patrimoines au plus grand nombre\, notamment par le biais de documentaires\, de supports vidéo et/ou interactifs\, Sites & Cités remarquables de France vous donne la possibilité de promouvoir votre territoire auprès de potentiels producteurs et diffuseurs.\nSites & Cités vous convie à deux moments susceptibles de vous intéresser durant cet événement :\n - Le mardi 26 juin (9h-10h) : Une rencontre autour d'un petit déjeuner entre des chaines de télévisions et des lieux de Patrimoine\n - Le mercredi 27 juin (9h00 à 19h) : Une journée "Patrimoine & Tourisme 3.0". Cette journée sera divisée en deux temps : la matinée consacrée au patrimoine et l'après-midi au tourisme.\n → Venez assister à diverses conférences\, master-class et rencontres avec des professionnels de l'audiovisuel (Canal+\, France Tv\, TV5 monde\, Arte etc.).\n\nProgramme du mercredi 27 juin 2018 pour la Journée "Patrimoine & Tourisme 3.0" :\nMatin : Vous avez la possibilité de découvrir le marché international Sunny Side of the Doc / Cultures Digitales et de suivre les activités suivantes (accréditation offerte – places limitées – RSVP) :\n\n\n \t9 :00 - Retrait des accréditations\n \t9 :30 - Accueil devant la salle de presse par Stéphane Malagnac\n \t9 :30   – 10 :00 -  Visite guidée de la halle expo de Sunny Side of the Doc\n \t10 :00 – 11 :00 - Visite guidée de l’Espace PiXii : Parcours Interactif d’eXpériences Immersives et Innovantes \n \t11 :00 – 12 :15 - Accélérateur de la Culture Digitale sur le thème du Patrimoine (Études de cas)  \n \t12:15 – 13 :00 - Présentation du programme Europe Créative / Année Européenne du Patrimoine Culturel\, par Margaux Lacoste\, chargée de projets Europe Créative/MEDIA\n \t13 :00 – 14 :30    Pause déjeuner\n\nAprès-midi\n\n \t14 :30 – 15 :00 - Keynote introductif : Cédric Chabry (ThinkMyWeb)\n \t15 :00 – 15 :30 - Xavier Le Marchand Directeur édition Numérique INA Stratégie web et patrimoine historique des territoires (Cas d'usage Olonne sur mer & Normandie Images)\n \t15 :30 – 16 :00 - Cécile Cros-Couder Pdg Narrative Son binaural et nouveau storytelling immersif géolocalisé à l'échelle d'un territoire \n Pause  16 :00 – 16 :15\n \t16 :15 – 16 :45 - Vincent Roirand Pdg Mazedia Application avec Réalité Augmentée sur la ville de Auch et autres retours d'expérience de ce spécialiste des parcours de visite\n \t16 :45 - 17 : 15 - Présentation Marc Randoll\, Directeur Exécutif Montréal en histoires. Présentation de Montréal en Histoire(s)\, du rallye techno-historique\, mapping\, bornes extérieures VR\n \t17:15 - 17:45 - Allocution de clôture (à préciser)\n \t17:45 - 18:30 - Cocktail \n\nComment vous inscrire ?\nInscrivez vous à cet événement exceptionnel en cliquant sur ce lien : Inscription Sunny Side of the Doc 2018 \nPour plus d'informations\, rendez-vous sur le site de l'événement : Sunny Side Of the Doc 2018\nTéléchargez le programme : Programme 
URL:http://www.sites-cites.fr/agenda/sunny-side-of-the-doc-2018/
LOCATION:4 Place Bernard Moitessier\, 17000 La Rochelle\, 17000\, France
ATTACH;FMTTYPE=image/png:http://www.sites-cites.fr/wp-content/uploads/2018/06/Image3-e1528900661615.png
END:VEVENT
BEGIN:VEVENT
DTSTART;TZID=Europe/Paris:20180629T094500
DTEND;TZID=Europe/Paris:20180629T123000
DTSTAMP:20180626T174227
CREATED:20180425T133711Z
LAST-MODIFIED:20180619T132819Z
UID:7603-1530265500-1530275400@www.sites-cites.fr
SUMMARY:Groupe de travail "Évolution des SPR"
DESCRIPTION:Groupe de travail - "Évolution des sites patrimoniaux remarquables"\n\nOrganisé par Sites & Cités remarquables\, en partenariat avec le Ministère de la Culture\, ce groupe de travail portera sur l'intégration de la dimension paysagère et environnementale dans les documents d'urbanisme patrimonial. Il se tiendra à la CAPEB\, salle Conférence.\nCe groupe de travail se tiendra le matin du Conseil d'Administration de l'association Sites & Cités remarquables.\n\nProgramme\n 9h45 : Accueil et mot d’introduction par M. Gérard DUCLOS\, maire de Lectoure et président du groupe de travail Sites patrimoniaux remarquables de Sites & Cités\n10h00 : Contexte législatif et enjeux actuels : que dit la loi sur cette thématique ? Quels enjeux en découlent pour les territoires ?\n\n\n \tPascal PLANCHET\, Professeur agrégé de droit public et expert pour Sites & Cités remarquables\n \tHadidja DIAF\, Cheffe du bureau de la protection et de la gestion des espaces\, Direction générale des patrimoines – Ministère de la Culture\n\n10h30 : Exemple de territoire - Saint-Léonard-de-Noblat – dimension développement durable \nÉtude thermodynamique du comportement du bâti ancien\n\n\n \tBéatrice FOURNET-REYMOND\, conseillère municipale Ville de Saint Léonard de Noblat\n\n11h00 : Exemple de territoire – Rodez – dimension paysagère\nMise en place d’un SPR sur plusieurs communes avec une dimension paysagère importante\n\n\n \tAnnick Berthaud et Diane Joy\, Rodez Agglomération\n\n11h30 : Échanges avec les participants en présence d’Emmanuel Prieur\, paysagiste-conseil d’Etat (sous-réserve)\n12h30 : Fin de l’atelier et conclusion par M. Gérard DUCLOS\, maire de Lectoure et président du GT Sites patrimoniaux remarquables de Sites & Cités\nPour participer à ce groupe de travail\, merci de vous inscrire en ligne en cliquant sur le bouton ci-dessous :\n\n\nPropulsé par HelloAsso
URL:http://www.sites-cites.fr/agenda/groupe-de-travail-evolution-sites-patrimoniaux-remarquables/
LOCATION:2 rue Béranger\, Paris\, Île-de-France\, 75003\, France
ATTACH;FMTTYPE=image/jpeg:http://www.sites-cites.fr/wp-content/uploads/2018/04/DSC06348.jpg
END:VEVENT
BEGIN:VEVENT
DTSTART;TZID=Europe/Paris:20180703T140000
DTEND;TZID=Europe/Paris:20180703T170000
DTSTAMP:20180626T174227
CREATED:20180525T123719Z
LAST-MODIFIED:20180525T123719Z
UID:8044-1530626400-1530637200@www.sites-cites.fr
SUMMARY:Groupe de travail "Attractivité commerciale"
DESCRIPTION:Groupe de travail - "Attractivité commerciale du cœur de ville"\n\nOrganisé par Sites & Cités remarquables\, en partenariat avec la région Occitanie\, ce groupe de travail se penchera sur l'évolution juridique de la commercialité et nouveaux services de proximité.\nProgramme\n\nAccueil et mot d’introduction par M. Alain VOGEL-SINGER\, maire de Pezenas\, Vice-Président de Sites & Cités et président du GT Attractivité commerciale du cœur de ville de Sites & Cités\n\nContexte législatif et enjeux actuels : qu'est-ce que la commercialité aujourd'hui ?\n\n\n \tJuriste des Ateliers d'Art de France\n \tFranck CHAIGNEAU\, Expert développement rural au service ingénierie et expertises territoriales CDC\n\nLes services de proximité de demain\n\n \tGroupe La Poste\n \texemple de territoire\, Ville de Toulouse\, Charte de Livraisons\n\nPrésentation étude Anah sur le commerce\n\n\n \tCveta KIROVA\n\nDébat puis conclusion par M. Alain VOGEL-SINGER\, maire de Pezenas\, Vice-Président de Sites & Cités et président du GT Attractivité commerciale du cœur de ville de Sites & Cités\n\n \n\n
URL:http://www.sites-cites.fr/agenda/groupe-de-travail-attractivite-commerciale/
LOCATION:41\, quai d'Orsay\, Paris\, France
ATTACH;FMTTYPE=image/jpeg:http://www.sites-cites.fr/wp-content/uploads/2018/05/3-pers-du-centre_rue-Lafayette-Â©P.Nin_..jpg
END:VEVENT
BEGIN:VEVENT
DTSTART;TZID=Europe/Paris:20180704T093000
DTEND;TZID=Europe/Paris:20180704T123000
DTSTAMP:20180626T174227
CREATED:20180425T132308Z
LAST-MODIFIED:20180626T102206Z
UID:7597-1530696600-1530707400@www.sites-cites.fr
SUMMARY:Groupe de travail "Paysage"
DESCRIPTION:Groupe de travail - "Paysage\, intercommunalité et documents d'urbanisme"\n\nOrganisé par Sites & Cités remarquables\, en partenariat avec le Ministère de la Transition écologique et solidaire\, ce groupe de travail apportera des solutions concernant la place du paysage dans les documents d'urbanisme et le rôle du paysage à l'échelle intercommunale.\nProgramme\n\n9h30 : Accueil et mot d’introduction par M. Jean-Paul BRIN\, 1er adjoint à la Ville de Pau et président du GT Paysage de Sites & Cités\n\n10h00 : La place du paysage dans les documents d’urbanisme\, résultats des travaux conjoints entre le Ministère de la Transition écologique et le Ministère de la Cohésion des territoires.\n\n \tKarine MANGIN\, chargée de mission "paysages" Bureau des Paysages et de la Publicité\, DGALN-DHUP\, Ministère de la Transition écologique et solidaire\n\nLa démarche des plans de paysage\n\n \tGilles de Beaulieu\, chargé de mission "paysages" Bureau des Paysages et de la Publicité\, DGALN-DHUP\, Ministère de la Transition écologique et solidaire\n\n10h30 : Exemple de territoire : Angers Loire Métropole et Agglo-Pau\n\nQuels outils dans le cadre du PLUi au service de la valorisation du paysage ? \n\n \tValérie GALPIN\, architecte-urbaniste\, Angers Loire Métropole\n \tJean-Paul BRIN\, 1er adjoint à la Ville de Pau \n\n11h30 : Échanges avec les participants en présence d’Emmanuel Prieur\, paysagiste-conseil d’Etat.\n\n12h30 : Fin de l’atelier et conclusion par M. Jean-Paul BRIN\, 1er adjoint à la Ville de Pau et président du GT Paysage de Sites & Cités\n\n \n\n
URL:http://www.sites-cites.fr/agenda/groupe-de-travail-paysage-intercommunalite-documents-durbanisme/
LOCATION:41\, quai d'Orsay\, Paris\, France
CATEGORIES:Paysage
ATTACH;FMTTYPE=image/jpeg:http://www.sites-cites.fr/wp-content/uploads/2018/04/Vue-du-château-min.jpg
END:VEVENT
BEGIN:VEVENT
DTSTART;TZID=Europe/Paris:20180710T093000
DTEND;TZID=Europe/Paris:20180710T170000
DTSTAMP:20180626T174227
CREATED:20180413T085026Z
LAST-MODIFIED:20180525T124955Z
UID:7531-1531215000-1531242000@www.sites-cites.fr
SUMMARY:FORMATION-Règlement local de publicité et Site Patrimonial Remarquable
DESCRIPTION: FORMATION - Règlement local de publicité et Site Patrimonial Remarquable\nAfin de répondre aux questionnements de ses membres et d’apporter une assistance concrète et précise aux collectivités\, Sites & Cités remarquables de France propose un cycle de formation sur la gestion des enseignes et publicités\, notamment en Site patrimonial remarquable.\nFiche technique\n\n\n \tObjectifs : présenter les réglements en vigueur sur la publicité et ses enjeux en site patrimonial remarquable et répondre aux questions concrètes des collectivités.\n \tPublics : techniciens\, élus\, urbanistes\, chargés de planification ou d’aménagement\, architectes… des villes et territoires de toutes tailles.\n\n \n\n \tProgramme : \n\n– Le règlement local de publicité (RLP) : contexte législatif et enjeux\n – La mise en place d’un RLP\n – Le traitement des enseignes en centre-ville et site patrimonial remarquable\n – Zoom sur les contentieux en centre-ville et site patrimonial remarquable\n – Exemples de bonnes pratiques\n – Échanges et réponses aux problématiques rencontrées sur les territoires\n\n \tIntervenants :\n\n– Philippe ZAVOLI\, Maître de Conférences\, Centre de recherche «Pau-Droit Public»\, Université de Pau et des Pays de l’Adour\, spécialiste du droit de la publicité\n\n\n \tTarifs :\n\n- 150 euros pour les villes de moins de 7000 habitants\n - 300 euros pour les villes de plus de 7000 habitants\n - 500 euros pour les non-adhérents\n\nTVA non applicable\, article 293 B du Code général des impôts\n Sites et Cités remarquables de France est organisme de formation\,\n N° de déclaration d’activité : 72640372464.  Une prise en charge est possible par votre OPCA.\n\n \tDéjeuner : à la charge du participant\n \tEffectif : 20 personnes maximum\n\n \n\n
URL:http://www.sites-cites.fr/agenda/reglement-local-de-publicite-site-patrimonial-remarquable/
LOCATION:2 Bis rue Béranger\, Paris\, 75003\, France
ATTACH;FMTTYPE=image/jpeg:http://www.sites-cites.fr/wp-content/uploads/2018/04/Image-Cognac-flyer.jpg
END:VEVENT
BEGIN:VEVENT
DTSTART;TZID=Europe/Paris:20180901T090000
DTEND;TZID=Europe/Paris:20180901T170000
DTSTAMP:20180626T174227
CREATED:20180312T112812Z
LAST-MODIFIED:20180621T085041Z
UID:7201-1535792400-1535821200@www.sites-cites.fr
SUMMARY:FORMATION-Site Patrimonial Remarquable aujourd'hui
DESCRIPTION:Site Patrimonial Remarquable aujourd'hui : création\, modification\, révision\, extension\n/!\ La formation qui devait se tenir le 26 juin 2018 est finalement reportée en septembre 2018. Une nouvelle date vous sera communiquée ultérieurement. \n\nAfin de répondre aux questionnements de ses membres et d'apporter une assistance concrète et précise aux collectivités\, Sites & Cités remarquables de France propose un cycle de formation sur l'urbanisme patrimonial au regard de la loi LCAP (loi du 7 juillet 2016 et décret du 29 mars 2017).\nFiche technique :\n\n \tEffectif : 20 personnes maximum\n \tPublic : techniciens\, élus\, urbanistes\, chargés de planification ou d'aménagement\, architectes... de villes et territoires de toutes tailles.\n \tObjectif : présenter les sites patrimoniaux remarquables créés par la loi LCAP et répondre aux questions concrètes des collectivités\n \tIntervenants : Jacky Cruchon\, urbaniste ; Pascal Planchet\, professeur de droit public\n \tPrix : 150 euros pour les villes de moins de 7000 habitants\, 300 euros pour les villes de plus de 7000 habitants et 400 euros pour les non-adhérents.\n \tDéjeuner : à la charge du participant\n\nContenus : le site patrimonial remarquable et les effets de la loi LCAP\n\n \tL'arrêté du périmètre et ses effets\n \tLes études\n \tLe choix du document d'urbanisme : PSMV et/ou PVAP et son approbation\n \tLes commissions\n \tLa maîtrise d'ouvrage\, les financements associés\n \tLes relations entre commune et intercommunalité\n \tLa fiscalité\n\n\nPropulsé par HelloAsso
URL:http://www.sites-cites.fr/agenda/formation-sites-patrimonial-remarquable-aujourdhui/
LOCATION:2 Bis rue Béranger\, Paris\, 75003\, France
ATTACH;FMTTYPE=image/jpeg:http://www.sites-cites.fr/wp-content/uploads/2017/07/Ouverture-Lundi-24-avril-1.jpg
END:VEVENT
BEGIN:VEVENT
DTSTART;TZID=Europe/Paris:20180911T090000
DTEND;TZID=Europe/Paris:20180911T170000
DTSTAMP:20180626T174227
CREATED:20180619T080255Z
LAST-MODIFIED:20180619T095409Z
UID:8462-1536656400-1536685200@www.sites-cites.fr
SUMMARY:Groupe de travail "Territoires & bourgs-centres"
DESCRIPTION:\nGroupe de travail "Territoires & bourgs-centres"\n \n\nEn partenariat avec la Ville de Lauzerte\, le ministère de la Culture\, l’ANAH\, La Région Occitanie et la Caisse des Dépôts et Consignations.\n \nRedynamisation des bourgs-centres : Programmes régionaux et initiatives locales\nLes politiques de redynamisation des bourgs-centres prennent leurs sens dans des programmes partenariaux\, comme ici avec la Région Occitanie\, mais aussi dans les initiatives communales\, illustrées par des efforts de communication ou de participation citoyenne.\nQuelles contractualisations possibles avec les Régions ? Quelle implication des habitants dans la communication du projet\, dans les nouvelles façons d’habiter les centres anciens ?\n\n\nProgramme\n9h – Accueil des participants\n9h30 – Ouverture\nJean-Claude GIORDANA\, maire de Lauzerte\nSylvia PINEL\, Ancienne ministre\, Députée du Tarn et Garonne\, Conseillère régionale Occitanie.\nMartin MALVY\, Ancien ministre\, Président de Sites & Cités remarquables de France\nBruno MARTY\, maire de La Réole et président du groupe de travail « Territoires et bourgs-centres » de Sites & Cités remarquables de France\nLaurent ROTURIER\, DRAC Occitanie\n10h15 – Régions : un programme d’accompagnement des projets de développement\nSylvia PINEL\, Ancienne ministre\, Députée du Tarn et Garonne\, Conseillère régionale Occitanie.\n\nYves DAUGE\, Ancien Sénateur\, Président honoraire de Sites et Cités remarquables de France\nJean-Claude GIORDANA\, maire de Lauzerte\nDiscussion avec les collectivités et les professionnels animée par un représentant de la CDC\n11h30 – Pause\n11h45 - Participation citoyenne : les habitants ambassadeurs du projet\nSites & Cités\nPrésentation de l’étude européenne Anah / Sites & Cités\nBruno MARTY\, maire de La Réole\nLa Réole\, 33mn pour changer de vie\nOllivier BERTRAND\, maire de Joinville\n \n13h – Déjeuner-buffet : à la charge des participants – 15 euros/personne\n14h – Visite de Lauzerte\n15h – Table ronde – Mixité sociale et générationnelle : une nouvelle façon d’habiter\nPrésidé par : Bruno MARTY\, maire de La Réole\nAnimation : Caisse des dépôts\nPhilippe GISCLARD\, ABF du Tarn et Garonne\nDauphins Architecture (Bordeaux)\, Habitat participatif locatif « La Fabrikàtoits » de La Réole\nHabitat participatif\, collectif au cœur de AUCH (sous réserve)\nGroupe LA POSTE\nDébat\n16h30 - Conclusion\nBruno MARTY\, maire de La Réole et président du groupe de travail « Territoires et bourgs-centres » de Sites & Cités remarquables de France\nPour participer à ce groupe de travail\, merci de vous inscrire en ligne en cliquant sur le bouton ci-dessous :\n
URL:http://www.sites-cites.fr/agenda/groupe-de-travail-territoires-bourgs-centres-2/
LOCATION:5 Rue de la Mairie\,  Lauzerte\, 82110\, France
CATEGORIES:Groupe de travail
ATTACH;FMTTYPE=image/jpeg:http://www.sites-cites.fr/wp-content/uploads/2018/06/vue-aerienne-Lauzerte-ot.jpg
END:VEVENT
BEGIN:VEVENT
DTSTART;TZID=Europe/Paris:20180920T090000
DTEND;TZID=Europe/Paris:20180920T180000
DTSTAMP:20180626T174227
CREATED:20180525T140031Z
LAST-MODIFIED:20180619T080836Z
UID:7710-1537434000-1537466400@www.sites-cites.fr
SUMMARY:Rencontre - « Les nouveaux enjeux dans les SPR »
DESCRIPTION:Journée de rencontre - « Les nouveaux enjeux dans les Sites patrimoniaux remarquables »\nOrganisée par Sites & Cités remarquables\, en partenariat avec la ville de Lyon et le Ministère de la Culture. Cette journée de rencontre sera l'occasion d'échanger autour de l'évolution des Sites Patrimoniaux Remarquables et de leurs nouveaux enjeux en abordant notamment la question de la participation citoyenne.\nFiche technique \n\n\n \tPublics : techniciens\, élus\, urbanistes\, chargés de planification ou d’aménagement\, architectes\, partenaires...\n \tTarif : gratuit\n \tDéjeuner : offert par la ville de Lyon\n \tEffectif : 100 personnes maximum\n\nProgramme et intervenants\n9h00 : Accueil\n\n9h30 : Ouverture\n\n- Vincent BERJOT\, Directeur général des Patrimoines au Ministère de la Culture ou son représentant  (sous réserve)\n- Jean Dominique DURAND\, Adjoint en charge du Patrimoine de la Ville de Lyon et Vice-Président de Sites et Cités remarquables de France\n - Martin MALVY\, Président de Sites et Cités remarquables de France\n - Michel PROSIC\, DRAC ou son représentant (sous réserve)\n\n10h00 : Actualité de la loi LCAP et évolutions\n\n \tSPR en cours d’élaboration\, Les premiers passages en CNAP\n\n- Représentant du Ministère de la Culture (sous réserve)\n- Emmanuelle DIDIER\, Architecte des Bâtiment de France (sous réserve)\n- Isabelle LAVEST\, Présidente CRPA\, Adjointe au Patrimoine de Clermont-Ferrand (sous réserve)\n\n \tProtection patrimoniale et Relations communes-communautés\n\n- Représentant de SCRF\n - Pascal PLANCHET\n\n11h00 : nouveaux enjeux des SPR\n\n \tAVAP des pentes de la Croix-rousse\, de la ZPPAUP à l’AVAP\n\n- Représentant d’Archipat (sous réserve)\n - Élu ou technicien de la Ville ou de la Métropole de Lyon (sous réserve)\n\n \tVille de Viviers :  Christian LAVIS\, Maire de Viviers et Thierry VERON\, Adjoint à l’urbanisme de la Ville de Viviers.\n\nDéjeuner\n\n14h00 > 14h30 : Lyon\, le projet urbain (ou patrimonial) et les enjeux actuels sur les Sites patrimoniaux remarquables.\n\n- Michel LE FAOU\, Adjoint à l’urbanisme de la Ville de Lyon\, Vice-Président en charge de l’urbanisme de la Métropole de Lyon (sous réserve)\n - Mathias CHAGNARD\, Chargé du PLUH à la Métropole de Lyon (sous réserve)\n\n14h30 > 16h00 : Table ronde « participation citoyenne dans les SPR »\n\n- Présidée par Jean Dominique Durand (sous réserve)\n - Avec Michel BOUVARD\, ancien Sénateur (sous réserve\n - Représentant du Ministère de la Culture(sous réserve)\n - Représentant de la Ville de Chambéry (sous réserve)\n - Représentant de la Ville de Grenoble (sous réserve)\n - Monsieur Henri BONNIAU\, Maire de Cluny\n - Maitre d’ouvrage de la Maison du Chamarrier à Lyon (sous réserve)\n\n16h00 : Conclusion\n\n- Vincent BERJOT\, directeur général des Patrimoines au Ministère de la Culture ou son représentant  (sous réserve)\n - Martin MALVY\, Président de Sites et Cités remarquables de France\n\n16h30 : Visite de Lyon\n\n \n\n \n\n\n\n \n\n
URL:http://www.sites-cites.fr/agenda/journee-de-rencontre-nouveaux-enjeux-sites-patrimoniaux-remarquables/
LOCATION:Salon de l'Hotel de Ville\, 1 Place de la Comédie\, Lyon\, 69001 \, France
CATEGORIES:Journées
ATTACH;FMTTYPE=image/jpeg:http://www.sites-cites.fr/wp-content/uploads/2018/06/Lyon-Bords-de-saone-®Muriel-Chaulet-copie.jpg
END:VEVENT
BEGIN:VEVENT
DTSTART;TZID=Europe/Paris:20181025T080000
DTEND;TZID=Europe/Paris:20181028T170000
DTSTAMP:20180626T174227
CREATED:20180302T135512Z
LAST-MODIFIED:20180302T142817Z
UID:7162-1540454400-1540746000@www.sites-cites.fr
SUMMARY:Salon international du patrimoine culturel : Exposez avec nous !
DESCRIPTION:Exposez avec Sites & Cités au Salon International du Patrimoine Culturel\nSites & Cités propose à ses membres de partager un stand au Salon du patrimoine lors de cette édition consacrée au Patrimoine européen. En 2018\, l’association souhaite partager un espace plus grand et plus ouvert avec ses membres et partenaires pour mieux les faire connaître à travers une communication repensée et uniformisée. Plusieurs conférences seront organisées par Sites et Cités\, notamment pour mettre en avant les expériences des territoires adhérents ainsi que pour valoriser les coopérations européennes de l’association.\nPourquoi exposer avec Sites et Cités remarquables de France ?\n\n \tBénéficier d’une visibilité pour faire connaître son territoire auprès de 22 000 visiteurs et 300 journalistes\n \tIntervenir lors d’une conférence organisée par Sites et Cités et faire mettre en avant ses actions en faveur de la sauvegarde et la valorisation du patrimoine\n \tRencontrer élus\, techniciens\, professionnels du patrimoine\, de la culture et du tourisme\n \tAccéder à la programmation de l’événement avec 350 exposants et plus de 40 conférences thématiques\n\nDocuments à télécharger :\n\n \tTélécharger la fiche pratique "Exposer au Salon du Patrimoine avec Sites et Cités"\n \tTélécharger la plaquette de présentation du salon international du patrimoine culturel 2018\n \tConsulter notre article "Retour sur le salon international du patrimoine culturel 2017"\n
URL:http://www.sites-cites.fr/agenda/salon-international-patrimoine-culturel-exposez/
LOCATION:2 rue Béranger\, Paris\, Île-de-France\, 75003\, France
ATTACH;FMTTYPE=image/jpeg:http://www.sites-cites.fr/wp-content/uploads/2018/03/SIPC18_300x300.jpg
END:VEVENT
BEGIN:VEVENT
DTSTART;VALUE=DATE:20190613
DTEND;VALUE=DATE:20190614
DTSTAMP:20180626T174227
CREATED:20180613T132832Z
LAST-MODIFIED:20180613T135950Z
UID:8345-1560384000-1560556799@www.sites-cites.fr
SUMMARY:3e Congrès national - 13/14 juin 2019 - Figeac
DESCRIPTION: 3e Congrès national de Sites & Cités - 13 et 14 juin 2019 à Figeac\n\n\n\n\nEn partenariat avec la ville de Figeac et le Grand Figeac\, Sites et Cités remarquables de France organise son 3e congrès national les 13 et 14 juin à Figeac (Lot).\n\nAprès Besançon\, grande ville de Bourgogne-Franche-Comté\, et Calais\, ville moyenne des Hauts de France\, Figeac en Occitanie\, offre la dimension d’une petite ville qui a su développer son attractivité à partir de son patrimoine avec un PSMV et des réhabilitations qui ont fait école depuis plus de 30 ans. Elle est labellisée Ville d’art et d’histoire depuis 1990\, label étendu en 2017 à la communauté de Communes. Cela correspond également aux questionnements d’aujourd’hui sur le rôle des petites villes dont les fonctions d'attractivité et de dynamique au cœur de leur territoire sont essentielles. D’autre part\, l’association a un partenariat fort avec la Région Occitanie depuis 2007.\n\nPlus d'informations à venir\n\nMieux connaître la politique patrimoniale de Figeac sur notre site et sur le site de la ville. \n\nPréparez votre séjour avec l'office de tourisme de Figeac\n\n
URL:http://www.sites-cites.fr/agenda/congres-2019-figeac/
LOCATION:Figeac\, France
ATTACH;FMTTYPE=image/jpeg:http://www.sites-cites.fr/wp-content/uploads/2018/06/Figeac_FK7A6118_1024x683©_Jerome_Morel_OT-Pays-de-Figeac-recadre-e1528892522218.jpg
END:VEVENT
END:VCALENDAR